BEGIN:VCALENDAR
VERSION:2.0
CALSCALE:GREGORIAN
PRODID:-//Diputació de Barcelona//DibaCMS//EN
BEGIN:VEVENT
UID:7743
DTSTAMP:20260425T132104
DTSTART:20250712T080000
DTEND:20250713T230000
SUMMARY:XXXVI Festa del Segar i el Batre
LOCATION:
METHOD:PUBLISH
X-WR-CALNAME:avia.ajuntament@avia.cat
X-WR-TIMEZONE:Europe/Madrid
DESCRIPTION:Avià es prepara per a la XXXVI Festa del Segar i el Batre amb activitats programades per a tots els públics.

URI:https://www.avia.cat/actualitat/agenda/xxxvi-festa-del-segar-i-el-batre.html
CLASS:PUBLIC
END:VEVENT
END:VCALENDAR
