BEGIN:VCALENDAR
VERSION:2.0
CALSCALE:GREGORIAN
PRODID:-//Diputació de Barcelona//DibaCMS//EN
BEGIN:VEVENT
UID:7739
DTSTAMP:20260425T144724
DTSTART:20250705T190000
DTEND:20250705T230000
SUMMARY:La Nit de les Espurnes
LOCATION:
METHOD:PUBLISH
X-WR-CALNAME:avia.ajuntament@avia.cat
X-WR-TIMEZONE:Europe/Madrid
DESCRIPTION:Primera Edició de la Nit de les Espurnes

URI:https://www.avia.cat/actualitat/agenda/la-nit-de-les-espurnes.html
CLASS:PUBLIC
END:VEVENT
END:VCALENDAR
