BEGIN:VCALENDAR
VERSION:2.0
CALSCALE:GREGORIAN
PRODID:-//Diputació de Barcelona//DibaCMS//EN
BEGIN:VEVENT
UID:7411
DTSTAMP:20260422T203622
DTSTART:20181028T110000
DTEND:20181028T130000
SUMMARY:Aplec de Sant Serni
LOCATION:
METHOD:PUBLISH
X-WR-CALNAME:avia.ajuntament@avia.cat
X-WR-TIMEZONE:Europe/Madrid
DESCRIPTION:A l'ermita de Sant Serni 

URI:https://www.avia.cat/actualitat/agenda/aplec-de-sant-serni.html
CLASS:PUBLIC
END:VEVENT
END:VCALENDAR
