BEGIN:VCALENDAR
VERSION:2.0
CALSCALE:GREGORIAN
PRODID:-//Diputació de Barcelona//DibaCMS//EN
BEGIN:VEVENT
UID:7381
DTSTAMP:20260425T131403
DTSTART:20180609T180000
DTEND:20180609T220000
SUMMARY:Trobada d'Acordions
LOCATION:
METHOD:PUBLISH
X-WR-CALNAME:avia.ajuntament@avia.cat
X-WR-TIMEZONE:Europe/Madrid
DESCRIPTION:A l'Ateneu d'Avià

URI:https://www.avia.cat/actualitat/agenda/7381-trobada-dacordions.html
CLASS:PUBLIC
END:VEVENT
END:VCALENDAR
