BEGIN:VCALENDAR
VERSION:2.0
CALSCALE:GREGORIAN
PRODID:-//Diputació de Barcelona//DibaCMS//EN
BEGIN:VEVENT
UID:7378
DTSTAMP:20260425T143931
DTSTART:20180609T200000
DTEND:20180609T220000
SUMMARY:"Bandeando"
LOCATION:
METHOD:PUBLISH
X-WR-CALNAME:avia.ajuntament@avia.cat
X-WR-TIMEZONE:Europe/Madrid
DESCRIPTION:Dissabte dia 9 a les 20:00 hores a la Plaça de l'Ateneu

URI:https://www.avia.cat/actualitat/agenda/bandeando.html
CLASS:PUBLIC
END:VEVENT
END:VCALENDAR
