BEGIN:VCALENDAR
VERSION:2.0
CALSCALE:GREGORIAN
PRODID:-//Diputació de Barcelona//DibaCMS//EN
BEGIN:VEVENT
UID:7359
DTSTAMP:20260425T143459
DTSTART:20180222T000000
DTEND:20180313T220000
SUMMARY:Avià se'n va al Liceu
LOCATION:
METHOD:PUBLISH
X-WR-CALNAME:avia.ajuntament@avia.cat
X-WR-TIMEZONE:Europe/Madrid
DESCRIPTION:Vine al Liceu el dia 13 de març a veure l'òpera ANDREA CHÉNIER a partir de 60€

URI:https://www.avia.cat/actualitat/agenda/avia-sen-va-al-liceu.html
CLASS:PUBLIC
END:VEVENT
END:VCALENDAR
