BEGIN:VCALENDAR
VERSION:2.0
CALSCALE:GREGORIAN
PRODID:-//Diputació de Barcelona//DibaCMS//EN
BEGIN:VEVENT
UID:418
DTSTAMP:20260425T130645
DTSTART:20170702T080000
DTEND:20170702T130000
SUMMARY:XV Reunió de vehicles clàssics
LOCATION:Escola Santa Maria d'Avià 
METHOD:PUBLISH
X-WR-CALNAME:avia.ajuntament@avia.cat
X-WR-TIMEZONE:Europe/Madrid
DESCRIPTION:Motor Clàssic d'Avià us convida a participar-hi

URI:https://www.avia.cat/actualitat/agenda/xv-reunio-de-vehicles-classics.html
CLASS:PUBLIC
END:VEVENT
END:VCALENDAR
